BEGIN:VCALENDAR
VERSION:2.0
PRODID:icalendar-ruby
CALSCALE:GREGORIAN
METHOD:PUBLISH
BEGIN:VEVENT
DTSTAMP:20260421T104422Z
UID:189-705370@loganstreetbaptist.org
DTSTART;VALUE=DATE:20260416
DTEND;VALUE=DATE:20260416
CLASS:PUBLIC
CREATED:20260329T091435
DESCRIPTION:Meet in the church foyer at 9 AM\n\nTour the Vandalia State Hou
 se\, Lincoln Park and Madonna of the Trail Statue\n\nLunch at Ponderosa \
 n\nVisit the Fire Breathing Dragon \n\nSign up/Questions: Nikki Hawkins 
  618-237-8485
LAST-MODIFIED:20260329T091435
LOCATION:
SUMMARY:Keenagers Vandalia Trip
URL;VALUE=URI:https://www.loganstreetbaptist.com/events/keenagers-vandalia-
 trip/2026-04-16
ATTACH;FILENAME=6b1ec228-5b9c-4d7c-a48c-bae5b04f57e9.jpg;FMTTYPE=image/jpeg
 :https://dq5pwpg1q8ru0.cloudfront.net/2026/03/12/17/08/40/5f53610e-5f5e-41
 32-ad6e-1ee7e70c004a/6b1ec228-5b9c-4d7c-a48c-bae5b04f57e9.jpg
ATTACH;FILENAME=84e89e29-9024-4ed2-8027-b46e2d081f02.jpg;FMTTYPE=image/jpeg
 :https://dq5pwpg1q8ru0.cloudfront.net/2026/03/12/17/08/40/f5da7148-b89b-46
 1f-a256-99257f6278bf/84e89e29-9024-4ed2-8027-b46e2d081f02.jpg
END:VEVENT
END:VCALENDAR
