BEGIN:VCALENDAR
VERSION:2.0
PRODID:icalendar-ruby
CALSCALE:GREGORIAN
METHOD:PUBLISH
BEGIN:VEVENT
DTSTAMP:20260421T115004Z
UID:198-782407@loganstreetbaptist.org
DTSTART;VALUE=DATE:20260517
DTEND;VALUE=DATE:20260517
CLASS:PUBLIC
CREATED:20260416T173008
DESCRIPTION:We will be recognizing our 8th grade\, high school\, and colle
 ge graduates at the beginning of service. There will be a banquet hosted f
 or those graduates at 12 PM. To know who all will be celebrated we ask tha
 t if you have a graduate or know someone who does please fill out this sho
 rt form or share it with someone who needs it: https://forms.gle/begQRmRJ
 pLVZ4VEz9
LAST-MODIFIED:20260416T173008
LOCATION:
SUMMARY:Graduation Recognition Service
URL;VALUE=URI:https://www.loganstreetbaptist.com/events/graduation-recognit
 ion-service/2026-05-17
ATTACH;FILENAME=ChatGPT-Image-Apr-16-2026-05_26_42-PM.png;FMTTYPE=image/png
 :https://dq5pwpg1q8ru0.cloudfront.net/2026/04/16/22/29/48/fe018128-9c2f-48
 05-ad5c-d1734ff04776/ChatGPT-Image-Apr-16-2026-05_26_42-PM.png
END:VEVENT
END:VCALENDAR
