BEGIN:VCALENDAR
VERSION:2.0
PRODID:icalendar-ruby
CALSCALE:GREGORIAN
METHOD:PUBLISH
BEGIN:VEVENT
DTSTAMP:20260421T205042Z
UID:29-803386@loganstreetbaptist.org
DTSTART:20261101T161500Z
DTEND:20261102T053000Z
CLASS:PUBLIC
CREATED:20260421T144039
DESCRIPTION:God's KREW stands for God's Kids Radically Experiencing Worship
 . This is a service designed for children in Kindergarten through 5th Grad
 e. They will be dismissed after music worship in the main service to go to
  God's KREW. There they will study the truths of God's Word\, and His Love
  through Jesus Christ with fun and creative activities.
LAST-MODIFIED:20260421T144039
LOCATION:Dining Hall
SUMMARY:God's Krew
URL;VALUE=URI:https://www.loganstreetbaptist.com/events/gods-krew--29/2026-
 11-01
ATTACH;FILENAME=logan-st-kids-logo.jpg;FMTTYPE=image/jpeg:https://dq5pwpg1q
 8ru0.cloudfront.net/2024/03/18/15/12/49/af48d97e-9e0d-427c-8e07-4b0605fad5
 3f/logan-st-kids-logo.jpg
END:VEVENT
END:VCALENDAR
