BEGIN:VCALENDAR
VERSION:2.0
PRODID:icalendar-ruby
CALSCALE:GREGORIAN
METHOD:PUBLISH
BEGIN:VEVENT
DTSTAMP:20260421T155205Z
UID:19-801834@loganstreetbaptist.org
DTSTART:20261029T000000Z
DTEND:20261029T010000Z
CLASS:PUBLIC
CREATED:20260421T092445
DESCRIPTION:
LAST-MODIFIED:20260421T092445
LOCATION:Worship Center
SUMMARY:Choir Rehearsal
URL;VALUE=URI:https://www.loganstreetbaptist.com/events/choir-rehearsal/202
 6-10-28
END:VEVENT
END:VCALENDAR
