BEGIN:VCALENDAR
VERSION:2.0
PRODID:icalendar-ruby
CALSCALE:GREGORIAN
METHOD:PUBLISH
BEGIN:VEVENT
DTSTAMP:20260421T104823Z
UID:19-800419@loganstreetbaptist.org
DTSTART:20261008T000000Z
DTEND:20261008T010000Z
CLASS:PUBLIC
CREATED:20260420T194234
DESCRIPTION:
LAST-MODIFIED:20260420T194234
LOCATION:Worship Center
SUMMARY:Choir Rehearsal
URL;VALUE=URI:https://www.loganstreetbaptist.com/events/choir-rehearsal/202
 6-10-07
END:VEVENT
END:VCALENDAR
