BEGIN:VCALENDAR
VERSION:2.0
PRODID:icalendar-ruby
CALSCALE:GREGORIAN
METHOD:PUBLISH
BEGIN:VEVENT
DTSTAMP:20260421T071355Z
UID:19-800417@loganstreetbaptist.org
DTSTART:20260924T000000Z
DTEND:20260924T010000Z
CLASS:PUBLIC
CREATED:20260420T194234
DESCRIPTION:
LAST-MODIFIED:20260420T194234
LOCATION:Worship Center
SUMMARY:Choir Rehearsal
URL;VALUE=URI:https://www.loganstreetbaptist.com/events/choir-rehearsal/202
 6-09-23
END:VEVENT
END:VCALENDAR
