BEGIN:VCALENDAR
VERSION:2.0
PRODID:icalendar-ruby
CALSCALE:GREGORIAN
METHOD:PUBLISH
BEGIN:VEVENT
DTSTAMP:20260421T052612Z
UID:19-800416@loganstreetbaptist.org
DTSTART:20260917T000000Z
DTEND:20260917T010000Z
CLASS:PUBLIC
CREATED:20260420T194234
DESCRIPTION:
LAST-MODIFIED:20260420T194234
LOCATION:Worship Center
SUMMARY:Choir Rehearsal
URL;VALUE=URI:https://www.loganstreetbaptist.com/events/choir-rehearsal/202
 6-09-16
END:VEVENT
END:VCALENDAR
