BEGIN:VCALENDAR
VERSION:2.0
PRODID:icalendar-ruby
CALSCALE:GREGORIAN
METHOD:PUBLISH
BEGIN:VEVENT
DTSTAMP:20260423T090939Z
UID:192-738480@loganstreetbaptist.org
DTSTART;VALUE=DATE:20260406
DTEND;VALUE=DATE:20260426
CLASS:PUBLIC
CREATED:20260406T081345
DESCRIPTION:This will be a special time or prayer and fasting as we seek Go
 d's presence\, power\, and guidance.  We will be praying especially for a
  time of revival during our Spiritual Renewal Week April 26-29. During thi
 s time pray for "your one" - that person who is close to you but far from 
 God. Our sanctuary will be open on Tuesdays and Thursday from 4-7pm for yo
 u come and pray. Download the 21 Days of Prayer and Fasting Guide below t
 o help guide your prayers during this time.  
LAST-MODIFIED:20260406T081345
LOCATION:
SUMMARY:21 Days of Prayer and Fasting
URL;VALUE=URI:https://www.loganstreetbaptist.com/events/21-days-of-prayer-a
 nd-fasting/2026-04-06
ATTACH;FILENAME=Updated-Style.jpg;FMTTYPE=image/jpeg:https://dq5pwpg1q8ru0.
 cloudfront.net/2026/03/22/14/51/07/67a08a9a-4a61-43fa-abdb-d0028ac50152/Up
 dated-Style.jpg
ATTACH;FILENAME=21 Days of Prayer and Fasting Guide LSBC 2026.pdf;FMTTYPE=a
 pplication/pdf:https://dq5pwpg1q8ru0.cloudfront.net/2026/03/22/14/51/07/36
 ead0da-cc70-41da-bb39-ba09b2f67c6b/21%20Days%20of%20Prayer%20and%20Fasting
 %20Guide%20LSBC%202026.pdf
END:VEVENT
END:VCALENDAR
